BEGIN:VCALENDAR
VERSION:2.0
PRODID:-//Club Guitare Lannilis - ECPv6.15.17.1//NONSGML v1.0//EN
CALSCALE:GREGORIAN
METHOD:PUBLISH
X-ORIGINAL-URL:https://club-guitare-lannilis.fr
X-WR-CALDESC:Évènements pour Club Guitare Lannilis
REFRESH-INTERVAL;VALUE=DURATION:PT1H
X-Robots-Tag:noindex
X-PUBLISHED-TTL:PT1H
BEGIN:VTIMEZONE
TZID:Europe/Paris
BEGIN:DAYLIGHT
TZOFFSETFROM:+0100
TZOFFSETTO:+0200
TZNAME:CEST
DTSTART:20240331T010000
END:DAYLIGHT
BEGIN:STANDARD
TZOFFSETFROM:+0200
TZOFFSETTO:+0100
TZNAME:CET
DTSTART:20241027T010000
END:STANDARD
BEGIN:DAYLIGHT
TZOFFSETFROM:+0100
TZOFFSETTO:+0200
TZNAME:CEST
DTSTART:20250330T010000
END:DAYLIGHT
BEGIN:STANDARD
TZOFFSETFROM:+0200
TZOFFSETTO:+0100
TZNAME:CET
DTSTART:20251026T010000
END:STANDARD
BEGIN:DAYLIGHT
TZOFFSETFROM:+0100
TZOFFSETTO:+0200
TZNAME:CEST
DTSTART:20260329T010000
END:DAYLIGHT
BEGIN:STANDARD
TZOFFSETFROM:+0200
TZOFFSETTO:+0100
TZNAME:CET
DTSTART:20261025T010000
END:STANDARD
END:VTIMEZONE
BEGIN:VEVENT
DTSTART;TZID=Europe/Paris:20250610T183000
DTEND;TZID=Europe/Paris:20250610T193000
DTSTAMP:20260425T133122
CREATED:20250222T151549Z
LAST-MODIFIED:20250223T133130Z
UID:1966-1749580200-1749583800@club-guitare-lannilis.fr
SUMMARY:Intermédiaire 2
DESCRIPTION:Adultes – Découvrir de nouvelles techniques. Savoir passer le “FA”.7 élèves max par cours.\nCours donné par Ronan
URL:https://club-guitare-lannilis.fr/event/intermediaire-2-14/
LOCATION:Club Guitare\, Club Guitare Allée Verte\, Lannilis\, Finistère\, 29870\, France
CATEGORIES:Cours 2024-2025,Intermédiaire,Intermédiaire 2,Ronan
ATTACH;FMTTYPE=image/png:https://club-guitare-lannilis.fr/wp-content/uploads/2025/02/cours-collectif-2.png
END:VEVENT
BEGIN:VEVENT
DTSTART;TZID=Europe/Paris:20250610T183000
DTEND;TZID=Europe/Paris:20250610T193000
DTSTAMP:20260425T133122
CREATED:20250222T160139Z
LAST-MODIFIED:20250223T134355Z
UID:2017-1749580200-1749583800@club-guitare-lannilis.fr
SUMMARY:Intermédiaire 1
DESCRIPTION:Adultes – Découvrir de nouvelles techniques. Savoir passer le “FA”.7 élèves max par cours.\nCours donné par Xavier
URL:https://club-guitare-lannilis.fr/event/intermediaire-1-14/
LOCATION:Club Guitare\, Club Guitare Allée Verte\, Lannilis\, Finistère\, 29870\, France
CATEGORIES:Cours 2024-2025,Intermédiaire,Intermédiaire 1,Xavier
ATTACH;FMTTYPE=image/png:https://club-guitare-lannilis.fr/wp-content/uploads/2025/02/cours-collectif-2.png
END:VEVENT
BEGIN:VEVENT
DTSTART;TZID=Europe/Paris:20250610T193000
DTEND;TZID=Europe/Paris:20250610T203000
DTSTAMP:20260425T133122
CREATED:20250222T151634Z
LAST-MODIFIED:20250223T133305Z
UID:1981-1749583800-1749587400@club-guitare-lannilis.fr
SUMMARY:Intermédiaire 4
DESCRIPTION:Adultes – Découvrir de nouvelles techniques. Savoir passer le “FA”.7 élèves max par cours.\nCours donné par Ronan
URL:https://club-guitare-lannilis.fr/event/intermediaire-4-14/
LOCATION:Club Guitare\, Club Guitare Allée Verte\, Lannilis\, Finistère\, 29870\, France
CATEGORIES:Cours 2024-2025,Intermédiaire,Intermédiaire 4,Ronan
ATTACH;FMTTYPE=image/png:https://club-guitare-lannilis.fr/wp-content/uploads/2025/02/cours-collectif-2.png
END:VEVENT
BEGIN:VEVENT
DTSTART;TZID=Europe/Paris:20250610T193000
DTEND;TZID=Europe/Paris:20250610T203000
DTSTAMP:20260425T133122
CREATED:20250222T160741Z
LAST-MODIFIED:20250223T134605Z
UID:2038-1749583800-1749587400@club-guitare-lannilis.fr
SUMMARY:Intermédiaire 3
DESCRIPTION:Adultes – Découvrir de nouvelles techniques. Savoir passer le “FA”.7 élèves max par cours.\nCours donné par Xavier
URL:https://club-guitare-lannilis.fr/event/intermediaire-3-14/
LOCATION:Club Guitare\, Club Guitare Allée Verte\, Lannilis\, Finistère\, 29870\, France
CATEGORIES:Cours 2024-2025,Intermédiaire,Intermédiaire 3,Xavier
ATTACH;FMTTYPE=image/png:https://club-guitare-lannilis.fr/wp-content/uploads/2025/02/cours-collectif-2.png
END:VEVENT
END:VCALENDAR