BEGIN:VCALENDAR
VERSION:2.0
PRODID:-//Club Guitare Lannilis - ECPv6.15.17.1//NONSGML v1.0//EN
CALSCALE:GREGORIAN
METHOD:PUBLISH
X-WR-CALNAME:Club Guitare Lannilis
X-ORIGINAL-URL:https://club-guitare-lannilis.fr
X-WR-CALDESC:Évènements pour Club Guitare Lannilis
REFRESH-INTERVAL;VALUE=DURATION:PT1H
X-Robots-Tag:noindex
X-PUBLISHED-TTL:PT1H
BEGIN:VTIMEZONE
TZID:Europe/Paris
BEGIN:DAYLIGHT
TZOFFSETFROM:+0100
TZOFFSETTO:+0200
TZNAME:CEST
DTSTART:20240331T010000
END:DAYLIGHT
BEGIN:STANDARD
TZOFFSETFROM:+0200
TZOFFSETTO:+0100
TZNAME:CET
DTSTART:20241027T010000
END:STANDARD
BEGIN:DAYLIGHT
TZOFFSETFROM:+0100
TZOFFSETTO:+0200
TZNAME:CEST
DTSTART:20250330T010000
END:DAYLIGHT
BEGIN:STANDARD
TZOFFSETFROM:+0200
TZOFFSETTO:+0100
TZNAME:CET
DTSTART:20251026T010000
END:STANDARD
BEGIN:DAYLIGHT
TZOFFSETFROM:+0100
TZOFFSETTO:+0200
TZNAME:CEST
DTSTART:20260329T010000
END:DAYLIGHT
BEGIN:STANDARD
TZOFFSETFROM:+0200
TZOFFSETTO:+0100
TZNAME:CET
DTSTART:20261025T010000
END:STANDARD
END:VTIMEZONE
BEGIN:VEVENT
DTSTART;TZID=Europe/Paris:20250505T190000
DTEND;TZID=Europe/Paris:20250505T200000
DTSTAMP:20260424T103649
CREATED:20250220T142749Z
LAST-MODIFIED:20250223T125722Z
UID:1748-1746471600-1746475200@club-guitare-lannilis.fr
SUMMARY:Loisirs 1
DESCRIPTION:Jouer et chanter pour le plaisir.7 élèves max par cours.\nCours donné par Thomas
URL:https://club-guitare-lannilis.fr/event/loisirs-1-23/
LOCATION:Club Guitare\, Club Guitare Allée Verte\, Lannilis\, Finistère\, 29870\, France
CATEGORIES:Cours 2024-2025,Loisirs,Loisirs 1,Thomas
ATTACH;FMTTYPE=image/png:https://club-guitare-lannilis.fr/wp-content/uploads/2025/02/cours-collectif-2.png
END:VEVENT
BEGIN:VEVENT
DTSTART;TZID=Europe/Paris:20250505T190000
DTEND;TZID=Europe/Paris:20250505T200000
DTSTAMP:20260424T103649
CREATED:20250223T131332Z
LAST-MODIFIED:20250223T131332Z
UID:2613-1746471600-1746475200@club-guitare-lannilis.fr
SUMMARY:Loisirs 2
DESCRIPTION:Jouer et chanter pour le plaisir.7 élèves max par cours.\nCours donné par Fabrice
URL:https://club-guitare-lannilis.fr/event/loisirs-2-41/
LOCATION:Club Guitare\, Club Guitare Allée Verte\, Lannilis\, Finistère\, 29870\, France
CATEGORIES:Cours 2024-2025,Fabrice,Loisirs,Loisirs 2
ATTACH;FMTTYPE=image/png:https://club-guitare-lannilis.fr/wp-content/uploads/2025/02/cours-collectif-2.png
END:VEVENT
BEGIN:VEVENT
DTSTART;TZID=Europe/Paris:20250507T190000
DTEND;TZID=Europe/Paris:20250507T200000
DTSTAMP:20260424T103649
CREATED:20250222T162659Z
LAST-MODIFIED:20250223T135425Z
UID:2091-1746644400-1746648000@club-guitare-lannilis.fr
SUMMARY:Loisirs 3
DESCRIPTION:Jouer et chanter pour le plaisir.7 élèves max par cours.\nCours donné par Christine
URL:https://club-guitare-lannilis.fr/event/loisirs-3-10/
LOCATION:Club Guitare\, Club Guitare Allée Verte\, Lannilis\, Finistère\, 29870\, France
CATEGORIES:Christine,Cours 2024-2025,Loisirs,Loisirs 3
ATTACH;FMTTYPE=image/png:https://club-guitare-lannilis.fr/wp-content/uploads/2025/02/cours-collectif-2.png
END:VEVENT
BEGIN:VEVENT
DTSTART;TZID=Europe/Paris:20250512T190000
DTEND;TZID=Europe/Paris:20250512T200000
DTSTAMP:20260424T103649
CREATED:20250220T142750Z
LAST-MODIFIED:20250223T125722Z
UID:1749-1747076400-1747080000@club-guitare-lannilis.fr
SUMMARY:Loisirs 1
DESCRIPTION:Jouer et chanter pour le plaisir.7 élèves max par cours.\nCours donné par Thomas
URL:https://club-guitare-lannilis.fr/event/loisirs-1-24/
LOCATION:Club Guitare\, Club Guitare Allée Verte\, Lannilis\, Finistère\, 29870\, France
CATEGORIES:Cours 2024-2025,Loisirs,Loisirs 1,Thomas
ATTACH;FMTTYPE=image/png:https://club-guitare-lannilis.fr/wp-content/uploads/2025/02/cours-collectif-2.png
END:VEVENT
BEGIN:VEVENT
DTSTART;TZID=Europe/Paris:20250512T190000
DTEND;TZID=Europe/Paris:20250512T200000
DTSTAMP:20260424T103649
CREATED:20250223T131332Z
LAST-MODIFIED:20250223T131332Z
UID:2614-1747076400-1747080000@club-guitare-lannilis.fr
SUMMARY:Loisirs 2
DESCRIPTION:Jouer et chanter pour le plaisir.7 élèves max par cours.\nCours donné par Fabrice
URL:https://club-guitare-lannilis.fr/event/loisirs-2-42/
LOCATION:Club Guitare\, Club Guitare Allée Verte\, Lannilis\, Finistère\, 29870\, France
CATEGORIES:Cours 2024-2025,Fabrice,Loisirs,Loisirs 2
ATTACH;FMTTYPE=image/png:https://club-guitare-lannilis.fr/wp-content/uploads/2025/02/cours-collectif-2.png
END:VEVENT
BEGIN:VEVENT
DTSTART;TZID=Europe/Paris:20250514T190000
DTEND;TZID=Europe/Paris:20250514T200000
DTSTAMP:20260424T103649
CREATED:20250222T162701Z
LAST-MODIFIED:20250223T135425Z
UID:2092-1747249200-1747252800@club-guitare-lannilis.fr
SUMMARY:Loisirs 3
DESCRIPTION:Jouer et chanter pour le plaisir.7 élèves max par cours.\nCours donné par Christine
URL:https://club-guitare-lannilis.fr/event/loisirs-3-11/
LOCATION:Club Guitare\, Club Guitare Allée Verte\, Lannilis\, Finistère\, 29870\, France
CATEGORIES:Christine,Cours 2024-2025,Loisirs,Loisirs 3
ATTACH;FMTTYPE=image/png:https://club-guitare-lannilis.fr/wp-content/uploads/2025/02/cours-collectif-2.png
END:VEVENT
BEGIN:VEVENT
DTSTART;TZID=Europe/Paris:20250519T190000
DTEND;TZID=Europe/Paris:20250519T200000
DTSTAMP:20260424T103649
CREATED:20250220T142751Z
LAST-MODIFIED:20250223T125722Z
UID:1750-1747681200-1747684800@club-guitare-lannilis.fr
SUMMARY:Loisirs 1
DESCRIPTION:Jouer et chanter pour le plaisir.7 élèves max par cours.\nCours donné par Thomas
URL:https://club-guitare-lannilis.fr/event/loisirs-1-25/
LOCATION:Club Guitare\, Club Guitare Allée Verte\, Lannilis\, Finistère\, 29870\, France
CATEGORIES:Cours 2024-2025,Loisirs,Loisirs 1,Thomas
ATTACH;FMTTYPE=image/png:https://club-guitare-lannilis.fr/wp-content/uploads/2025/02/cours-collectif-2.png
END:VEVENT
BEGIN:VEVENT
DTSTART;TZID=Europe/Paris:20250519T190000
DTEND;TZID=Europe/Paris:20250519T200000
DTSTAMP:20260424T103649
CREATED:20250223T131332Z
LAST-MODIFIED:20250223T131332Z
UID:2615-1747681200-1747684800@club-guitare-lannilis.fr
SUMMARY:Loisirs 2
DESCRIPTION:Jouer et chanter pour le plaisir.7 élèves max par cours.\nCours donné par Fabrice
URL:https://club-guitare-lannilis.fr/event/loisirs-2-43/
LOCATION:Club Guitare\, Club Guitare Allée Verte\, Lannilis\, Finistère\, 29870\, France
CATEGORIES:Cours 2024-2025,Fabrice,Loisirs,Loisirs 2
ATTACH;FMTTYPE=image/png:https://club-guitare-lannilis.fr/wp-content/uploads/2025/02/cours-collectif-2.png
END:VEVENT
BEGIN:VEVENT
DTSTART;TZID=Europe/Paris:20250521T190000
DTEND;TZID=Europe/Paris:20250521T200000
DTSTAMP:20260424T103649
CREATED:20250222T162857Z
LAST-MODIFIED:20250223T135439Z
UID:2096-1747854000-1747857600@club-guitare-lannilis.fr
SUMMARY:Loisirs 3
DESCRIPTION:Jouer et chanter pour le plaisir.7 élèves max par cours.\nCours donné par Christine
URL:https://club-guitare-lannilis.fr/event/loisirs-3-12/
LOCATION:Club Guitare\, Club Guitare Allée Verte\, Lannilis\, Finistère\, 29870\, France
CATEGORIES:Christine,Cours 2024-2025,Loisirs,Loisirs 3
ATTACH;FMTTYPE=image/png:https://club-guitare-lannilis.fr/wp-content/uploads/2025/02/cours-collectif-2.png
END:VEVENT
BEGIN:VEVENT
DTSTART;TZID=Europe/Paris:20250526T190000
DTEND;TZID=Europe/Paris:20250526T200000
DTSTAMP:20260424T103649
CREATED:20250220T142801Z
LAST-MODIFIED:20250223T125725Z
UID:1751-1748286000-1748289600@club-guitare-lannilis.fr
SUMMARY:Loisirs 1
DESCRIPTION:Jouer et chanter pour le plaisir.7 élèves max par cours.\nCours donné par Thomas
URL:https://club-guitare-lannilis.fr/event/loisirs-1-26/
LOCATION:Club Guitare\, Club Guitare Allée Verte\, Lannilis\, Finistère\, 29870\, France
CATEGORIES:Cours 2024-2025,Loisirs,Loisirs 1,Thomas
ATTACH;FMTTYPE=image/png:https://club-guitare-lannilis.fr/wp-content/uploads/2025/02/cours-collectif-2.png
END:VEVENT
BEGIN:VEVENT
DTSTART;TZID=Europe/Paris:20250526T190000
DTEND;TZID=Europe/Paris:20250526T200000
DTSTAMP:20260424T103649
CREATED:20250223T131422Z
LAST-MODIFIED:20250223T131422Z
UID:2616-1748286000-1748289600@club-guitare-lannilis.fr
SUMMARY:Loisirs 2
DESCRIPTION:Jouer et chanter pour le plaisir.7 élèves max par cours.\nCours donné par Fabrice
URL:https://club-guitare-lannilis.fr/event/loisirs-2-44/
LOCATION:Club Guitare\, Club Guitare Allée Verte\, Lannilis\, Finistère\, 29870\, France
CATEGORIES:Cours 2024-2025,Fabrice,Loisirs,Loisirs 2
ATTACH;FMTTYPE=image/png:https://club-guitare-lannilis.fr/wp-content/uploads/2025/02/cours-collectif-2.png
END:VEVENT
BEGIN:VEVENT
DTSTART;TZID=Europe/Paris:20250528T190000
DTEND;TZID=Europe/Paris:20250528T200000
DTSTAMP:20260424T103649
CREATED:20250222T162858Z
LAST-MODIFIED:20250223T135439Z
UID:2097-1748458800-1748462400@club-guitare-lannilis.fr
SUMMARY:Loisirs 3
DESCRIPTION:Jouer et chanter pour le plaisir.7 élèves max par cours.\nCours donné par Christine
URL:https://club-guitare-lannilis.fr/event/loisirs-3-13/
LOCATION:Club Guitare\, Club Guitare Allée Verte\, Lannilis\, Finistère\, 29870\, France
CATEGORIES:Christine,Cours 2024-2025,Loisirs,Loisirs 3
ATTACH;FMTTYPE=image/png:https://club-guitare-lannilis.fr/wp-content/uploads/2025/02/cours-collectif-2.png
END:VEVENT
END:VCALENDAR