BEGIN:VCALENDAR
VERSION:2.0
PRODID:-//Club Guitare Lannilis - ECPv6.15.17.1//NONSGML v1.0//EN
CALSCALE:GREGORIAN
METHOD:PUBLISH
X-WR-CALNAME:Club Guitare Lannilis
X-ORIGINAL-URL:https://club-guitare-lannilis.fr
X-WR-CALDESC:Évènements pour Club Guitare Lannilis
REFRESH-INTERVAL;VALUE=DURATION:PT1H
X-Robots-Tag:noindex
X-PUBLISHED-TTL:PT1H
BEGIN:VTIMEZONE
TZID:Europe/Paris
BEGIN:DAYLIGHT
TZOFFSETFROM:+0100
TZOFFSETTO:+0200
TZNAME:CEST
DTSTART:20240331T010000
END:DAYLIGHT
BEGIN:STANDARD
TZOFFSETFROM:+0200
TZOFFSETTO:+0100
TZNAME:CET
DTSTART:20241027T010000
END:STANDARD
BEGIN:DAYLIGHT
TZOFFSETFROM:+0100
TZOFFSETTO:+0200
TZNAME:CEST
DTSTART:20250330T010000
END:DAYLIGHT
BEGIN:STANDARD
TZOFFSETFROM:+0200
TZOFFSETTO:+0100
TZNAME:CET
DTSTART:20251026T010000
END:STANDARD
BEGIN:DAYLIGHT
TZOFFSETFROM:+0100
TZOFFSETTO:+0200
TZNAME:CEST
DTSTART:20260329T010000
END:DAYLIGHT
BEGIN:STANDARD
TZOFFSETFROM:+0200
TZOFFSETTO:+0100
TZNAME:CET
DTSTART:20261025T010000
END:STANDARD
END:VTIMEZONE
BEGIN:VEVENT
DTSTART;TZID=Europe/Paris:20250401T173000
DTEND;TZID=Europe/Paris:20250401T183000
DTSTAMP:20260426T060134
CREATED:20250222T151445Z
LAST-MODIFIED:20250223T132537Z
UID:1943-1743528600-1743532200@club-guitare-lannilis.fr
SUMMARY:Ados débutants 1
DESCRIPTION:A partir de 10 ans.7 élèves max par cours.\nCours donné par Ronan
URL:https://club-guitare-lannilis.fr/event/ados-debutants-1-6/
LOCATION:Club Guitare\, Club Guitare Allée Verte\, Lannilis\, Finistère\, 29870\, France
CATEGORIES:Ados débutants,Ados débutants 1,Cours 2024-2025,Ronan
ATTACH;FMTTYPE=image/png:https://club-guitare-lannilis.fr/wp-content/uploads/2025/02/cours-collectif-2.png
END:VEVENT
BEGIN:VEVENT
DTSTART;TZID=Europe/Paris:20250401T183000
DTEND;TZID=Europe/Paris:20250401T193000
DTSTAMP:20260426T060134
CREATED:20250222T151530Z
LAST-MODIFIED:20250223T132941Z
UID:1958-1743532200-1743535800@club-guitare-lannilis.fr
SUMMARY:Intermédiaire 2
DESCRIPTION:Adultes – Découvrir de nouvelles techniques. Savoir passer le “FA”.7 élèves max par cours.\nCours donné par Ronan
URL:https://club-guitare-lannilis.fr/event/intermediaire-2-6/
LOCATION:Club Guitare\, Club Guitare Allée Verte\, Lannilis\, Finistère\, 29870\, France
CATEGORIES:Cours 2024-2025,Intermédiaire,Intermédiaire 2,Ronan
ATTACH;FMTTYPE=image/png:https://club-guitare-lannilis.fr/wp-content/uploads/2025/02/cours-collectif-2.png
END:VEVENT
BEGIN:VEVENT
DTSTART;TZID=Europe/Paris:20250401T183000
DTEND;TZID=Europe/Paris:20250401T193000
DTSTAMP:20260426T060134
CREATED:20250222T160119Z
LAST-MODIFIED:20250223T134047Z
UID:2009-1743532200-1743535800@club-guitare-lannilis.fr
SUMMARY:Intermédiaire 1
DESCRIPTION:Adultes – Découvrir de nouvelles techniques. Savoir passer le “FA”.7 élèves max par cours.\nCours donné par Xavier
URL:https://club-guitare-lannilis.fr/event/intermediaire-1-6/
LOCATION:Club Guitare\, Club Guitare Allée Verte\, Lannilis\, Finistère\, 29870\, France
CATEGORIES:Cours 2024-2025,Intermédiaire,Intermédiaire 1,Xavier
ATTACH;FMTTYPE=image/png:https://club-guitare-lannilis.fr/wp-content/uploads/2025/02/cours-collectif-2.png
END:VEVENT
BEGIN:VEVENT
DTSTART;TZID=Europe/Paris:20250401T193000
DTEND;TZID=Europe/Paris:20250401T203000
DTSTAMP:20260426T060134
CREATED:20250222T151615Z
LAST-MODIFIED:20250223T133249Z
UID:1973-1743535800-1743539400@club-guitare-lannilis.fr
SUMMARY:Intermédiaire 4
DESCRIPTION:Adultes – Découvrir de nouvelles techniques. Savoir passer le “FA”.7 élèves max par cours.\nCours donné par Ronan
URL:https://club-guitare-lannilis.fr/event/intermediaire-4-6/
LOCATION:Club Guitare\, Club Guitare Allée Verte\, Lannilis\, Finistère\, 29870\, France
CATEGORIES:Cours 2024-2025,Intermédiaire,Intermédiaire 4,Ronan
ATTACH;FMTTYPE=image/png:https://club-guitare-lannilis.fr/wp-content/uploads/2025/02/cours-collectif-2.png
END:VEVENT
BEGIN:VEVENT
DTSTART;TZID=Europe/Paris:20250401T193000
DTEND;TZID=Europe/Paris:20250401T203000
DTSTAMP:20260426T060134
CREATED:20250222T160537Z
LAST-MODIFIED:20250223T134526Z
UID:2028-1743535800-1743539400@club-guitare-lannilis.fr
SUMMARY:Intermédiaire 3
DESCRIPTION:Adultes – Découvrir de nouvelles techniques. Savoir passer le “FA”.7 élèves max par cours.\nCours donné par Xavier
URL:https://club-guitare-lannilis.fr/event/intermediaire-3-6/
LOCATION:Club Guitare\, Club Guitare Allée Verte\, Lannilis\, Finistère\, 29870\, France
CATEGORIES:Cours 2024-2025,Intermédiaire,Intermédiaire 3,Xavier
ATTACH;FMTTYPE=image/png:https://club-guitare-lannilis.fr/wp-content/uploads/2025/02/cours-collectif-2.png
END:VEVENT
BEGIN:VEVENT
DTSTART;TZID=Europe/Paris:20250401T203000
DTEND;TZID=Europe/Paris:20250401T213000
DTSTAMP:20260426T060134
CREATED:20250222T151701Z
LAST-MODIFIED:20250223T133614Z
UID:1988-1743539400-1743543000@club-guitare-lannilis.fr
SUMMARY:Perfectionnement 2
DESCRIPTION:Adultes – Approfondir de nouvelles techniques. Maîtrise des barrés et notion d’arpège requises.7 élèves max par cours.\nCours donné par Ronan
URL:https://club-guitare-lannilis.fr/event/perfectionnement-2-6/
LOCATION:Club Guitare\, Club Guitare Allée Verte\, Lannilis\, Finistère\, 29870\, France
CATEGORIES:Cours 2024-2025,Perfectionnement,Perfectionnement 2,Ronan
ATTACH;FMTTYPE=image/png:https://club-guitare-lannilis.fr/wp-content/uploads/2025/02/cours-collectif-2.png
END:VEVENT
BEGIN:VEVENT
DTSTART;TZID=Europe/Paris:20250401T203000
DTEND;TZID=Europe/Paris:20250401T213000
DTSTAMP:20260426T060134
CREATED:20250222T161140Z
LAST-MODIFIED:20250223T134626Z
UID:2046-1743539400-1743543000@club-guitare-lannilis.fr
SUMMARY:Perfectionnement 1
DESCRIPTION:Adultes – Approfondir de nouvelles techniques. Maîtrise des barrés et notion d’arpège requises.7 élèves max par cours.\nCours donné par Xavier
URL:https://club-guitare-lannilis.fr/event/perfectionnement-1-6/
LOCATION:Club Guitare\, Club Guitare Allée Verte\, Lannilis\, Finistère\, 29870\, France
CATEGORIES:Cours 2024-2025,Perfectionnement,Perfectionnement 1,Xavier
ATTACH;FMTTYPE=image/png:https://club-guitare-lannilis.fr/wp-content/uploads/2025/02/cours-collectif-2.png
END:VEVENT
BEGIN:VEVENT
DTSTART;TZID=Europe/Paris:20250402T180000
DTEND;TZID=Europe/Paris:20250402T190000
DTSTAMP:20260426T060134
CREATED:20250222T162053Z
LAST-MODIFIED:20250223T135148Z
UID:2068-1743616800-1743620400@club-guitare-lannilis.fr
SUMMARY:Adultes débutants 2
DESCRIPTION:Pour les adultes n’ayant jamais pratiqué la guitare.7 élèves max par cours.\nCours donné par Christine
URL:https://club-guitare-lannilis.fr/event/adultes-debutants-2-9/
LOCATION:Club Guitare\, Club Guitare Allée Verte\, Lannilis\, Finistère\, 29870\, France
CATEGORIES:Adultes débutants,Adultes débutants 2,Christine,Cours 2024-2025
ATTACH;FMTTYPE=image/png:https://club-guitare-lannilis.fr/wp-content/uploads/2025/02/cours-collectif-2.png
END:VEVENT
BEGIN:VEVENT
DTSTART;TZID=Europe/Paris:20250402T190000
DTEND;TZID=Europe/Paris:20250402T200000
DTSTAMP:20260426T060134
CREATED:20250222T162656Z
LAST-MODIFIED:20250223T135424Z
UID:2087-1743620400-1743624000@club-guitare-lannilis.fr
SUMMARY:Loisirs 3
DESCRIPTION:Jouer et chanter pour le plaisir.7 élèves max par cours.\nCours donné par Christine
URL:https://club-guitare-lannilis.fr/event/loisirs-3-7/
LOCATION:Club Guitare\, Club Guitare Allée Verte\, Lannilis\, Finistère\, 29870\, France
CATEGORIES:Christine,Cours 2024-2025,Loisirs,Loisirs 3
ATTACH;FMTTYPE=image/png:https://club-guitare-lannilis.fr/wp-content/uploads/2025/02/cours-collectif-2.png
END:VEVENT
BEGIN:VEVENT
DTSTART;TZID=Europe/Paris:20250403T180000
DTEND;TZID=Europe/Paris:20250403T190000
DTSTAMP:20260426T060134
CREATED:20250222T163337Z
LAST-MODIFIED:20250223T135849Z
UID:2116-1743703200-1743706800@club-guitare-lannilis.fr
SUMMARY:Ados non débutants 1
DESCRIPTION:A partir de 10 ans.7 élèves max par cours.\nCours donné par Ronan
URL:https://club-guitare-lannilis.fr/event/ados-non-debutants-1-6/
LOCATION:Club Guitare\, Club Guitare Allée Verte\, Lannilis\, Finistère\, 29870\, France
CATEGORIES:Ados non débutants,Ados non débutants 1,Cours 2024-2025,Ronan
ATTACH;FMTTYPE=image/png:https://club-guitare-lannilis.fr/wp-content/uploads/2025/02/cours-collectif-2.png
END:VEVENT
BEGIN:VEVENT
DTSTART;TZID=Europe/Paris:20250403T190000
DTEND;TZID=Europe/Paris:20250403T200000
DTSTAMP:20260426T060135
CREATED:20250222T165357Z
LAST-MODIFIED:20250223T135907Z
UID:2159-1743706800-1743710400@club-guitare-lannilis.fr
SUMMARY:Adultes débutants 2
DESCRIPTION:Pour les adultes n’ayant jamais pratiqué la guitare.7 élèves max par cours.\nCours donné par Ronan
URL:https://club-guitare-lannilis.fr/event/adultes-debutants-2-38/
LOCATION:Club Guitare\, Club Guitare Allée Verte\, Lannilis\, Finistère\, 29870\, France
CATEGORIES:Adultes débutants,Adultes débutants 3,Cours 2024-2025,Ronan
ATTACH;FMTTYPE=image/png:https://club-guitare-lannilis.fr/wp-content/uploads/2025/02/cours-collectif-2.png
END:VEVENT
BEGIN:VEVENT
DTSTART;TZID=Europe/Paris:20250403T200000
DTEND;TZID=Europe/Paris:20250403T210000
DTSTAMP:20260426T060135
CREATED:20250222T165918Z
LAST-MODIFIED:20250223T140114Z
UID:2171-1743710400-1743714000@club-guitare-lannilis.fr
SUMMARY:Perfectionnement 3
DESCRIPTION:Adultes – Approfondir de nouvelles techniques. Maîtrise des barrés et notion d’arpège requises.7 élèves max par cours.\nCours donné par Ronan
URL:https://club-guitare-lannilis.fr/event/perfectionnement-3-6/
LOCATION:Club Guitare\, Club Guitare Allée Verte\, Lannilis\, Finistère\, 29870\, France
CATEGORIES:Cours 2024-2025,Perfectionnement,Perfectionnement 3,Ronan
ATTACH;FMTTYPE=image/png:https://club-guitare-lannilis.fr/wp-content/uploads/2025/02/cours-collectif-2.png
END:VEVENT
BEGIN:VEVENT
DTSTART;TZID=Europe/Paris:20250403T200000
DTEND;TZID=Europe/Paris:20250403T210000
DTSTAMP:20260426T060135
CREATED:20250223T104313Z
LAST-MODIFIED:20250223T140526Z
UID:2423-1743710400-1743714000@club-guitare-lannilis.fr
SUMMARY:Intermédiaire 5
DESCRIPTION:Adultes – Découvrir de nouvelles techniques. Savoir passer le “FA”.7 élèves max par cours.\nCours donné par Xavier
URL:https://club-guitare-lannilis.fr/event/intermediaire-5-10/
LOCATION:Club Guitare\, Club Guitare Allée Verte\, Lannilis\, Finistère\, 29870\, France
CATEGORIES:Cours 2024-2025,Intermédiaire,Intermédiaire 5,Xavier
ATTACH;FMTTYPE=image/png:https://club-guitare-lannilis.fr/wp-content/uploads/2025/02/cours-collectif-2.png
END:VEVENT
BEGIN:VEVENT
DTSTART;TZID=Europe/Paris:20250405T100000
DTEND;TZID=Europe/Paris:20250405T110000
DTSTAMP:20260426T060135
CREATED:20250223T103320Z
LAST-MODIFIED:20250223T140834Z
UID:2387-1743847200-1743850800@club-guitare-lannilis.fr
SUMMARY:Ados débutants 2
DESCRIPTION:A partir de 10 ans.7 élèves max par cours.\nCours donné par Marie-Claude
URL:https://club-guitare-lannilis.fr/event/ados-debutants-2-11/
LOCATION:Club Guitare\, Club Guitare Allée Verte\, Lannilis\, Finistère\, 29870\, France
CATEGORIES:Ados débutants,Ados débutants 2,Cours 2024-2025,Marie-Claude
ATTACH;FMTTYPE=image/png:https://club-guitare-lannilis.fr/wp-content/uploads/2025/02/cours-collectif-2.png
END:VEVENT
BEGIN:VEVENT
DTSTART;TZID=Europe/Paris:20250405T110000
DTEND;TZID=Europe/Paris:20250405T120000
DTSTAMP:20260426T060135
CREATED:20250223T103404Z
LAST-MODIFIED:20250223T141840Z
UID:2402-1743850800-1743854400@club-guitare-lannilis.fr
SUMMARY:Ados non débutants 2
DESCRIPTION:A partir de 10 ans.7 élèves max par cours.\nCours donné par Marie-Claude
URL:https://club-guitare-lannilis.fr/event/ados-non-debutants-2-6/
LOCATION:Club Guitare\, Club Guitare Allée Verte\, Lannilis\, Finistère\, 29870\, France
CATEGORIES:Ados non débutants,Ados non débutants 2,Cours 2024-2025,Marie-Claude
ATTACH;FMTTYPE=image/png:https://club-guitare-lannilis.fr/wp-content/uploads/2025/02/cours-collectif-2.png
END:VEVENT
BEGIN:VEVENT
DTSTART;TZID=Europe/Paris:20250422T173000
DTEND;TZID=Europe/Paris:20250422T183000
DTSTAMP:20260426T060135
CREATED:20250222T151446Z
LAST-MODIFIED:20250223T132537Z
UID:1944-1745343000-1745346600@club-guitare-lannilis.fr
SUMMARY:Ados débutants 1
DESCRIPTION:A partir de 10 ans.7 élèves max par cours.\nCours donné par Ronan
URL:https://club-guitare-lannilis.fr/event/ados-debutants-1-7/
LOCATION:Club Guitare\, Club Guitare Allée Verte\, Lannilis\, Finistère\, 29870\, France
CATEGORIES:Ados débutants,Ados débutants 1,Cours 2024-2025,Ronan
ATTACH;FMTTYPE=image/png:https://club-guitare-lannilis.fr/wp-content/uploads/2025/02/cours-collectif-2.png
END:VEVENT
BEGIN:VEVENT
DTSTART;TZID=Europe/Paris:20250422T183000
DTEND;TZID=Europe/Paris:20250422T193000
DTSTAMP:20260426T060135
CREATED:20250222T151531Z
LAST-MODIFIED:20250223T132941Z
UID:1959-1745346600-1745350200@club-guitare-lannilis.fr
SUMMARY:Intermédiaire 2
DESCRIPTION:Adultes – Découvrir de nouvelles techniques. Savoir passer le “FA”.7 élèves max par cours.\nCours donné par Ronan
URL:https://club-guitare-lannilis.fr/event/intermediaire-2-7/
LOCATION:Club Guitare\, Club Guitare Allée Verte\, Lannilis\, Finistère\, 29870\, France
CATEGORIES:Cours 2024-2025,Intermédiaire,Intermédiaire 2,Ronan
ATTACH;FMTTYPE=image/png:https://club-guitare-lannilis.fr/wp-content/uploads/2025/02/cours-collectif-2.png
END:VEVENT
BEGIN:VEVENT
DTSTART;TZID=Europe/Paris:20250422T183000
DTEND;TZID=Europe/Paris:20250422T193000
DTSTAMP:20260426T060135
CREATED:20250222T160120Z
LAST-MODIFIED:20250223T134048Z
UID:2010-1745346600-1745350200@club-guitare-lannilis.fr
SUMMARY:Intermédiaire 1
DESCRIPTION:Adultes – Découvrir de nouvelles techniques. Savoir passer le “FA”.7 élèves max par cours.\nCours donné par Xavier
URL:https://club-guitare-lannilis.fr/event/intermediaire-1-7/
LOCATION:Club Guitare\, Club Guitare Allée Verte\, Lannilis\, Finistère\, 29870\, France
CATEGORIES:Cours 2024-2025,Intermédiaire,Intermédiaire 1,Xavier
ATTACH;FMTTYPE=image/png:https://club-guitare-lannilis.fr/wp-content/uploads/2025/02/cours-collectif-2.png
END:VEVENT
BEGIN:VEVENT
DTSTART;TZID=Europe/Paris:20250422T193000
DTEND;TZID=Europe/Paris:20250422T203000
DTSTAMP:20260426T060135
CREATED:20250222T151616Z
LAST-MODIFIED:20250223T133250Z
UID:1974-1745350200-1745353800@club-guitare-lannilis.fr
SUMMARY:Intermédiaire 4
DESCRIPTION:Adultes – Découvrir de nouvelles techniques. Savoir passer le “FA”.7 élèves max par cours.\nCours donné par Ronan
URL:https://club-guitare-lannilis.fr/event/intermediaire-4-7/
LOCATION:Club Guitare\, Club Guitare Allée Verte\, Lannilis\, Finistère\, 29870\, France
CATEGORIES:Cours 2024-2025,Intermédiaire,Intermédiaire 4,Ronan
ATTACH;FMTTYPE=image/png:https://club-guitare-lannilis.fr/wp-content/uploads/2025/02/cours-collectif-2.png
END:VEVENT
BEGIN:VEVENT
DTSTART;TZID=Europe/Paris:20250422T193000
DTEND;TZID=Europe/Paris:20250422T203000
DTSTAMP:20260426T060135
CREATED:20250222T160538Z
LAST-MODIFIED:20250223T134526Z
UID:2029-1745350200-1745353800@club-guitare-lannilis.fr
SUMMARY:Intermédiaire 3
DESCRIPTION:Adultes – Découvrir de nouvelles techniques. Savoir passer le “FA”.7 élèves max par cours.\nCours donné par Xavier
URL:https://club-guitare-lannilis.fr/event/intermediaire-3-7/
LOCATION:Club Guitare\, Club Guitare Allée Verte\, Lannilis\, Finistère\, 29870\, France
CATEGORIES:Cours 2024-2025,Intermédiaire,Intermédiaire 3,Xavier
ATTACH;FMTTYPE=image/png:https://club-guitare-lannilis.fr/wp-content/uploads/2025/02/cours-collectif-2.png
END:VEVENT
BEGIN:VEVENT
DTSTART;TZID=Europe/Paris:20250422T203000
DTEND;TZID=Europe/Paris:20250422T213000
DTSTAMP:20260426T060135
CREATED:20250222T151702Z
LAST-MODIFIED:20250223T133614Z
UID:1989-1745353800-1745357400@club-guitare-lannilis.fr
SUMMARY:Perfectionnement 2
DESCRIPTION:Adultes – Approfondir de nouvelles techniques. Maîtrise des barrés et notion d’arpège requises.7 élèves max par cours.\nCours donné par Ronan
URL:https://club-guitare-lannilis.fr/event/perfectionnement-2-7/
LOCATION:Club Guitare\, Club Guitare Allée Verte\, Lannilis\, Finistère\, 29870\, France
CATEGORIES:Cours 2024-2025,Perfectionnement,Perfectionnement 2,Ronan
ATTACH;FMTTYPE=image/png:https://club-guitare-lannilis.fr/wp-content/uploads/2025/02/cours-collectif-2.png
END:VEVENT
BEGIN:VEVENT
DTSTART;TZID=Europe/Paris:20250422T203000
DTEND;TZID=Europe/Paris:20250422T213000
DTSTAMP:20260426T060135
CREATED:20250222T161142Z
LAST-MODIFIED:20250223T134626Z
UID:2047-1745353800-1745357400@club-guitare-lannilis.fr
SUMMARY:Perfectionnement 1
DESCRIPTION:Adultes – Approfondir de nouvelles techniques. Maîtrise des barrés et notion d’arpège requises.7 élèves max par cours.\nCours donné par Xavier
URL:https://club-guitare-lannilis.fr/event/perfectionnement-1-7/
LOCATION:Club Guitare\, Club Guitare Allée Verte\, Lannilis\, Finistère\, 29870\, France
CATEGORIES:Cours 2024-2025,Perfectionnement,Perfectionnement 1,Xavier
ATTACH;FMTTYPE=image/png:https://club-guitare-lannilis.fr/wp-content/uploads/2025/02/cours-collectif-2.png
END:VEVENT
BEGIN:VEVENT
DTSTART;TZID=Europe/Paris:20250423T180000
DTEND;TZID=Europe/Paris:20250423T190000
DTSTAMP:20260426T060135
CREATED:20250222T162055Z
LAST-MODIFIED:20250223T135148Z
UID:2069-1745431200-1745434800@club-guitare-lannilis.fr
SUMMARY:Adultes débutants 2
DESCRIPTION:Pour les adultes n’ayant jamais pratiqué la guitare.7 élèves max par cours.\nCours donné par Christine
URL:https://club-guitare-lannilis.fr/event/adultes-debutants-2-10/
LOCATION:Club Guitare\, Club Guitare Allée Verte\, Lannilis\, Finistère\, 29870\, France
CATEGORIES:Adultes débutants,Adultes débutants 2,Christine,Cours 2024-2025
ATTACH;FMTTYPE=image/png:https://club-guitare-lannilis.fr/wp-content/uploads/2025/02/cours-collectif-2.png
END:VEVENT
BEGIN:VEVENT
DTSTART;TZID=Europe/Paris:20250423T190000
DTEND;TZID=Europe/Paris:20250423T200000
DTSTAMP:20260426T060135
CREATED:20250222T162657Z
LAST-MODIFIED:20250223T135424Z
UID:2088-1745434800-1745438400@club-guitare-lannilis.fr
SUMMARY:Loisirs 3
DESCRIPTION:Jouer et chanter pour le plaisir.7 élèves max par cours.\nCours donné par Christine
URL:https://club-guitare-lannilis.fr/event/loisirs-3-8/
LOCATION:Club Guitare\, Club Guitare Allée Verte\, Lannilis\, Finistère\, 29870\, France
CATEGORIES:Christine,Cours 2024-2025,Loisirs,Loisirs 3
ATTACH;FMTTYPE=image/png:https://club-guitare-lannilis.fr/wp-content/uploads/2025/02/cours-collectif-2.png
END:VEVENT
BEGIN:VEVENT
DTSTART;TZID=Europe/Paris:20250424T180000
DTEND;TZID=Europe/Paris:20250424T190000
DTSTAMP:20260426T060135
CREATED:20250222T163338Z
LAST-MODIFIED:20250223T135849Z
UID:2117-1745517600-1745521200@club-guitare-lannilis.fr
SUMMARY:Ados non débutants 1
DESCRIPTION:A partir de 10 ans.7 élèves max par cours.\nCours donné par Ronan
URL:https://club-guitare-lannilis.fr/event/ados-non-debutants-1-7/
LOCATION:Club Guitare\, Club Guitare Allée Verte\, Lannilis\, Finistère\, 29870\, France
CATEGORIES:Ados non débutants,Ados non débutants 1,Cours 2024-2025,Ronan
ATTACH;FMTTYPE=image/png:https://club-guitare-lannilis.fr/wp-content/uploads/2025/02/cours-collectif-2.png
END:VEVENT
BEGIN:VEVENT
DTSTART;TZID=Europe/Paris:20250424T190000
DTEND;TZID=Europe/Paris:20250424T200000
DTSTAMP:20260426T060135
CREATED:20250222T165358Z
LAST-MODIFIED:20250223T135907Z
UID:2160-1745521200-1745524800@club-guitare-lannilis.fr
SUMMARY:Adultes débutants 2
DESCRIPTION:Pour les adultes n’ayant jamais pratiqué la guitare.7 élèves max par cours.\nCours donné par Ronan
URL:https://club-guitare-lannilis.fr/event/adultes-debutants-2-39/
LOCATION:Club Guitare\, Club Guitare Allée Verte\, Lannilis\, Finistère\, 29870\, France
CATEGORIES:Adultes débutants,Adultes débutants 3,Cours 2024-2025,Ronan
ATTACH;FMTTYPE=image/png:https://club-guitare-lannilis.fr/wp-content/uploads/2025/02/cours-collectif-2.png
END:VEVENT
BEGIN:VEVENT
DTSTART;TZID=Europe/Paris:20250424T200000
DTEND;TZID=Europe/Paris:20250424T210000
DTSTAMP:20260426T060135
CREATED:20250222T165946Z
LAST-MODIFIED:20250223T140256Z
UID:2172-1745524800-1745528400@club-guitare-lannilis.fr
SUMMARY:Perfectionnement 3
DESCRIPTION:Adultes – Approfondir de nouvelles techniques. Maîtrise des barrés et notion d’arpège requises.7 élèves max par cours.\nCours donné par Ronan
URL:https://club-guitare-lannilis.fr/event/perfectionnement-3-7/
LOCATION:Club Guitare\, Club Guitare Allée Verte\, Lannilis\, Finistère\, 29870\, France
CATEGORIES:Cours 2024-2025,Perfectionnement,Perfectionnement 3,Ronan
ATTACH;FMTTYPE=image/png:https://club-guitare-lannilis.fr/wp-content/uploads/2025/02/cours-collectif-2.png
END:VEVENT
BEGIN:VEVENT
DTSTART;TZID=Europe/Paris:20250424T200000
DTEND;TZID=Europe/Paris:20250424T210000
DTSTAMP:20260426T060135
CREATED:20250223T104313Z
LAST-MODIFIED:20250223T140526Z
UID:2424-1745524800-1745528400@club-guitare-lannilis.fr
SUMMARY:Intermédiaire 5
DESCRIPTION:Adultes – Découvrir de nouvelles techniques. Savoir passer le “FA”.7 élèves max par cours.\nCours donné par Xavier
URL:https://club-guitare-lannilis.fr/event/intermediaire-5-11/
LOCATION:Club Guitare\, Club Guitare Allée Verte\, Lannilis\, Finistère\, 29870\, France
CATEGORIES:Cours 2024-2025,Intermédiaire,Intermédiaire 5,Xavier
ATTACH;FMTTYPE=image/png:https://club-guitare-lannilis.fr/wp-content/uploads/2025/02/cours-collectif-2.png
END:VEVENT
BEGIN:VEVENT
DTSTART;TZID=Europe/Paris:20250426T100000
DTEND;TZID=Europe/Paris:20250426T110000
DTSTAMP:20260426T060135
CREATED:20250223T103320Z
LAST-MODIFIED:20250223T140834Z
UID:2388-1745661600-1745665200@club-guitare-lannilis.fr
SUMMARY:Ados débutants 2
DESCRIPTION:A partir de 10 ans.7 élèves max par cours.\nCours donné par Marie-Claude
URL:https://club-guitare-lannilis.fr/event/ados-debutants-2-12/
LOCATION:Club Guitare\, Club Guitare Allée Verte\, Lannilis\, Finistère\, 29870\, France
CATEGORIES:Ados débutants,Ados débutants 2,Cours 2024-2025,Marie-Claude
ATTACH;FMTTYPE=image/png:https://club-guitare-lannilis.fr/wp-content/uploads/2025/02/cours-collectif-2.png
END:VEVENT
BEGIN:VEVENT
DTSTART;TZID=Europe/Paris:20250426T110000
DTEND;TZID=Europe/Paris:20250426T120000
DTSTAMP:20260426T060135
CREATED:20250223T103404Z
LAST-MODIFIED:20250223T141840Z
UID:2403-1745665200-1745668800@club-guitare-lannilis.fr
SUMMARY:Ados non débutants 2
DESCRIPTION:A partir de 10 ans.7 élèves max par cours.\nCours donné par Marie-Claude
URL:https://club-guitare-lannilis.fr/event/ados-non-debutants-2-7/
LOCATION:Club Guitare\, Club Guitare Allée Verte\, Lannilis\, Finistère\, 29870\, France
CATEGORIES:Ados non débutants,Ados non débutants 2,Cours 2024-2025,Marie-Claude
ATTACH;FMTTYPE=image/png:https://club-guitare-lannilis.fr/wp-content/uploads/2025/02/cours-collectif-2.png
END:VEVENT
END:VCALENDAR