BEGIN:VCALENDAR
VERSION:2.0
PRODID:-//Club Guitare Lannilis - ECPv6.15.17.1//NONSGML v1.0//EN
CALSCALE:GREGORIAN
METHOD:PUBLISH
X-ORIGINAL-URL:https://club-guitare-lannilis.fr
X-WR-CALDESC:Évènements pour Club Guitare Lannilis
REFRESH-INTERVAL;VALUE=DURATION:PT1H
X-Robots-Tag:noindex
X-PUBLISHED-TTL:PT1H
BEGIN:VTIMEZONE
TZID:Europe/Paris
BEGIN:DAYLIGHT
TZOFFSETFROM:+0100
TZOFFSETTO:+0200
TZNAME:CEST
DTSTART:20240331T010000
END:DAYLIGHT
BEGIN:STANDARD
TZOFFSETFROM:+0200
TZOFFSETTO:+0100
TZNAME:CET
DTSTART:20241027T010000
END:STANDARD
BEGIN:DAYLIGHT
TZOFFSETFROM:+0100
TZOFFSETTO:+0200
TZNAME:CEST
DTSTART:20250330T010000
END:DAYLIGHT
BEGIN:STANDARD
TZOFFSETFROM:+0200
TZOFFSETTO:+0100
TZNAME:CET
DTSTART:20251026T010000
END:STANDARD
BEGIN:DAYLIGHT
TZOFFSETFROM:+0100
TZOFFSETTO:+0200
TZNAME:CEST
DTSTART:20260329T010000
END:DAYLIGHT
BEGIN:STANDARD
TZOFFSETFROM:+0200
TZOFFSETTO:+0100
TZNAME:CET
DTSTART:20261025T010000
END:STANDARD
END:VTIMEZONE
BEGIN:VEVENT
DTSTART;TZID=Europe/Paris:20250503T100000
DTEND;TZID=Europe/Paris:20250503T110000
DTSTAMP:20260426T043154
CREATED:20250223T103320Z
LAST-MODIFIED:20250223T140834Z
UID:2389-1746266400-1746270000@club-guitare-lannilis.fr
SUMMARY:Ados débutants 2
DESCRIPTION:A partir de 10 ans.7 élèves max par cours.\nCours donné par Marie-Claude
URL:https://club-guitare-lannilis.fr/event/ados-debutants-2-13/
LOCATION:Club Guitare\, Club Guitare Allée Verte\, Lannilis\, Finistère\, 29870\, France
CATEGORIES:Ados débutants,Ados débutants 2,Cours 2024-2025,Marie-Claude
ATTACH;FMTTYPE=image/png:https://club-guitare-lannilis.fr/wp-content/uploads/2025/02/cours-collectif-2.png
END:VEVENT
BEGIN:VEVENT
DTSTART;TZID=Europe/Paris:20250503T110000
DTEND;TZID=Europe/Paris:20250503T120000
DTSTAMP:20260426T043154
CREATED:20250223T103405Z
LAST-MODIFIED:20250223T141840Z
UID:2404-1746270000-1746273600@club-guitare-lannilis.fr
SUMMARY:Ados non débutants 2
DESCRIPTION:A partir de 10 ans.7 élèves max par cours.\nCours donné par Marie-Claude
URL:https://club-guitare-lannilis.fr/event/ados-non-debutants-2-8/
LOCATION:Club Guitare\, Club Guitare Allée Verte\, Lannilis\, Finistère\, 29870\, France
CATEGORIES:Ados non débutants,Ados non débutants 2,Cours 2024-2025,Marie-Claude
ATTACH;FMTTYPE=image/png:https://club-guitare-lannilis.fr/wp-content/uploads/2025/02/cours-collectif-2.png
END:VEVENT
BEGIN:VEVENT
DTSTART;TZID=Europe/Paris:20250505T190000
DTEND;TZID=Europe/Paris:20250505T200000
DTSTAMP:20260426T043154
CREATED:20250220T142749Z
LAST-MODIFIED:20250223T125722Z
UID:1748-1746471600-1746475200@club-guitare-lannilis.fr
SUMMARY:Loisirs 1
DESCRIPTION:Jouer et chanter pour le plaisir.7 élèves max par cours.\nCours donné par Thomas
URL:https://club-guitare-lannilis.fr/event/loisirs-1-23/
LOCATION:Club Guitare\, Club Guitare Allée Verte\, Lannilis\, Finistère\, 29870\, France
CATEGORIES:Cours 2024-2025,Loisirs,Loisirs 1,Thomas
ATTACH;FMTTYPE=image/png:https://club-guitare-lannilis.fr/wp-content/uploads/2025/02/cours-collectif-2.png
END:VEVENT
BEGIN:VEVENT
DTSTART;TZID=Europe/Paris:20250505T190000
DTEND;TZID=Europe/Paris:20250505T200000
DTSTAMP:20260426T043154
CREATED:20250223T131332Z
LAST-MODIFIED:20250223T131332Z
UID:2613-1746471600-1746475200@club-guitare-lannilis.fr
SUMMARY:Loisirs 2
DESCRIPTION:Jouer et chanter pour le plaisir.7 élèves max par cours.\nCours donné par Fabrice
URL:https://club-guitare-lannilis.fr/event/loisirs-2-41/
LOCATION:Club Guitare\, Club Guitare Allée Verte\, Lannilis\, Finistère\, 29870\, France
CATEGORIES:Cours 2024-2025,Fabrice,Loisirs,Loisirs 2
ATTACH;FMTTYPE=image/png:https://club-guitare-lannilis.fr/wp-content/uploads/2025/02/cours-collectif-2.png
END:VEVENT
BEGIN:VEVENT
DTSTART;TZID=Europe/Paris:20250505T200000
DTEND;TZID=Europe/Paris:20250505T210000
DTSTAMP:20260426T043154
CREATED:20250221T114408Z
LAST-MODIFIED:20250223T125850Z
UID:1857-1746475200-1746478800@club-guitare-lannilis.fr
SUMMARY:Adultes Débutants 1
DESCRIPTION:Pour les adultes n’ayant jamais pratiqué la guitare.7 élèves max par cours.\nCours donné par Thomas
URL:https://club-guitare-lannilis.fr/event/adultes-debutants-1-8/
LOCATION:Club Guitare\, Club Guitare Allée Verte\, Lannilis\, Finistère\, 29870\, France
CATEGORIES:Adultes débutants,Adultes débutants 1,Cours 2024-2025,Thomas
ATTACH;FMTTYPE=image/png:https://club-guitare-lannilis.fr/wp-content/uploads/2025/02/cours-collectif-2.png
END:VEVENT
BEGIN:VEVENT
DTSTART;TZID=Europe/Paris:20250506T173000
DTEND;TZID=Europe/Paris:20250506T183000
DTSTAMP:20260426T043154
CREATED:20250222T151449Z
LAST-MODIFIED:20250223T132537Z
UID:1946-1746552600-1746556200@club-guitare-lannilis.fr
SUMMARY:Ados débutants 1
DESCRIPTION:A partir de 10 ans.7 élèves max par cours.\nCours donné par Ronan
URL:https://club-guitare-lannilis.fr/event/ados-debutants-1-9/
LOCATION:Club Guitare\, Club Guitare Allée Verte\, Lannilis\, Finistère\, 29870\, France
CATEGORIES:Ados débutants,Ados débutants 1,Cours 2024-2025,Ronan
ATTACH;FMTTYPE=image/png:https://club-guitare-lannilis.fr/wp-content/uploads/2025/02/cours-collectif-2.png
END:VEVENT
BEGIN:VEVENT
DTSTART;TZID=Europe/Paris:20250506T183000
DTEND;TZID=Europe/Paris:20250506T193000
DTSTAMP:20260426T043154
CREATED:20250222T151534Z
LAST-MODIFIED:20250223T132941Z
UID:1961-1746556200-1746559800@club-guitare-lannilis.fr
SUMMARY:Intermédiaire 2
DESCRIPTION:Adultes – Découvrir de nouvelles techniques. Savoir passer le “FA”.7 élèves max par cours.\nCours donné par Ronan
URL:https://club-guitare-lannilis.fr/event/intermediaire-2-9/
LOCATION:Club Guitare\, Club Guitare Allée Verte\, Lannilis\, Finistère\, 29870\, France
CATEGORIES:Cours 2024-2025,Intermédiaire,Intermédiaire 2,Ronan
ATTACH;FMTTYPE=image/png:https://club-guitare-lannilis.fr/wp-content/uploads/2025/02/cours-collectif-2.png
END:VEVENT
BEGIN:VEVENT
DTSTART;TZID=Europe/Paris:20250506T183000
DTEND;TZID=Europe/Paris:20250506T193000
DTSTAMP:20260426T043154
CREATED:20250222T160123Z
LAST-MODIFIED:20250223T134048Z
UID:2012-1746556200-1746559800@club-guitare-lannilis.fr
SUMMARY:Intermédiaire 1
DESCRIPTION:Adultes – Découvrir de nouvelles techniques. Savoir passer le “FA”.7 élèves max par cours.\nCours donné par Xavier
URL:https://club-guitare-lannilis.fr/event/intermediaire-1-9/
LOCATION:Club Guitare\, Club Guitare Allée Verte\, Lannilis\, Finistère\, 29870\, France
CATEGORIES:Cours 2024-2025,Intermédiaire,Intermédiaire 1,Xavier
ATTACH;FMTTYPE=image/png:https://club-guitare-lannilis.fr/wp-content/uploads/2025/02/cours-collectif-2.png
END:VEVENT
BEGIN:VEVENT
DTSTART;TZID=Europe/Paris:20250506T193000
DTEND;TZID=Europe/Paris:20250506T203000
DTSTAMP:20260426T043154
CREATED:20250222T151619Z
LAST-MODIFIED:20250223T133250Z
UID:1976-1746559800-1746563400@club-guitare-lannilis.fr
SUMMARY:Intermédiaire 4
DESCRIPTION:Adultes – Découvrir de nouvelles techniques. Savoir passer le “FA”.7 élèves max par cours.\nCours donné par Ronan
URL:https://club-guitare-lannilis.fr/event/intermediaire-4-9/
LOCATION:Club Guitare\, Club Guitare Allée Verte\, Lannilis\, Finistère\, 29870\, France
CATEGORIES:Cours 2024-2025,Intermédiaire,Intermédiaire 4,Ronan
ATTACH;FMTTYPE=image/png:https://club-guitare-lannilis.fr/wp-content/uploads/2025/02/cours-collectif-2.png
END:VEVENT
BEGIN:VEVENT
DTSTART;TZID=Europe/Paris:20250506T193000
DTEND;TZID=Europe/Paris:20250506T203000
DTSTAMP:20260426T043154
CREATED:20250222T160541Z
LAST-MODIFIED:20250223T134526Z
UID:2031-1746559800-1746563400@club-guitare-lannilis.fr
SUMMARY:Intermédiaire 3
DESCRIPTION:Adultes – Découvrir de nouvelles techniques. Savoir passer le “FA”.7 élèves max par cours.\nCours donné par Xavier
URL:https://club-guitare-lannilis.fr/event/intermediaire-3-9/
LOCATION:Club Guitare\, Club Guitare Allée Verte\, Lannilis\, Finistère\, 29870\, France
CATEGORIES:Cours 2024-2025,Intermédiaire,Intermédiaire 3,Xavier
ATTACH;FMTTYPE=image/png:https://club-guitare-lannilis.fr/wp-content/uploads/2025/02/cours-collectif-2.png
END:VEVENT
BEGIN:VEVENT
DTSTART;TZID=Europe/Paris:20250506T203000
DTEND;TZID=Europe/Paris:20250506T213000
DTSTAMP:20260426T043154
CREATED:20250222T151705Z
LAST-MODIFIED:20250223T133614Z
UID:1991-1746563400-1746567000@club-guitare-lannilis.fr
SUMMARY:Perfectionnement 2
DESCRIPTION:Adultes – Approfondir de nouvelles techniques. Maîtrise des barrés et notion d’arpège requises.7 élèves max par cours.\nCours donné par Ronan
URL:https://club-guitare-lannilis.fr/event/perfectionnement-2-9/
LOCATION:Club Guitare\, Club Guitare Allée Verte\, Lannilis\, Finistère\, 29870\, France
CATEGORIES:Cours 2024-2025,Perfectionnement,Perfectionnement 2,Ronan
ATTACH;FMTTYPE=image/png:https://club-guitare-lannilis.fr/wp-content/uploads/2025/02/cours-collectif-2.png
END:VEVENT
BEGIN:VEVENT
DTSTART;TZID=Europe/Paris:20250506T203000
DTEND;TZID=Europe/Paris:20250506T213000
DTSTAMP:20260426T043154
CREATED:20250222T161144Z
LAST-MODIFIED:20250223T134627Z
UID:2049-1746563400-1746567000@club-guitare-lannilis.fr
SUMMARY:Perfectionnement 1
DESCRIPTION:Adultes – Approfondir de nouvelles techniques. Maîtrise des barrés et notion d’arpège requises.7 élèves max par cours.\nCours donné par Xavier
URL:https://club-guitare-lannilis.fr/event/perfectionnement-1-9/
LOCATION:Club Guitare\, Club Guitare Allée Verte\, Lannilis\, Finistère\, 29870\, France
CATEGORIES:Cours 2024-2025,Perfectionnement,Perfectionnement 1,Xavier
ATTACH;FMTTYPE=image/png:https://club-guitare-lannilis.fr/wp-content/uploads/2025/02/cours-collectif-2.png
END:VEVENT
BEGIN:VEVENT
DTSTART;TZID=Europe/Paris:20250507T180000
DTEND;TZID=Europe/Paris:20250507T190000
DTSTAMP:20260426T043154
CREATED:20250222T162057Z
LAST-MODIFIED:20250223T135149Z
UID:2071-1746640800-1746644400@club-guitare-lannilis.fr
SUMMARY:Adultes débutants 2
DESCRIPTION:Pour les adultes n’ayant jamais pratiqué la guitare.7 élèves max par cours.\nCours donné par Christine
URL:https://club-guitare-lannilis.fr/event/adultes-debutants-2-12/
LOCATION:Club Guitare\, Club Guitare Allée Verte\, Lannilis\, Finistère\, 29870\, France
CATEGORIES:Adultes débutants,Adultes débutants 2,Christine,Cours 2024-2025
ATTACH;FMTTYPE=image/png:https://club-guitare-lannilis.fr/wp-content/uploads/2025/02/cours-collectif-2.png
END:VEVENT
BEGIN:VEVENT
DTSTART;TZID=Europe/Paris:20250507T190000
DTEND;TZID=Europe/Paris:20250507T200000
DTSTAMP:20260426T043154
CREATED:20250222T162659Z
LAST-MODIFIED:20250223T135425Z
UID:2091-1746644400-1746648000@club-guitare-lannilis.fr
SUMMARY:Loisirs 3
DESCRIPTION:Jouer et chanter pour le plaisir.7 élèves max par cours.\nCours donné par Christine
URL:https://club-guitare-lannilis.fr/event/loisirs-3-10/
LOCATION:Club Guitare\, Club Guitare Allée Verte\, Lannilis\, Finistère\, 29870\, France
CATEGORIES:Christine,Cours 2024-2025,Loisirs,Loisirs 3
ATTACH;FMTTYPE=image/png:https://club-guitare-lannilis.fr/wp-content/uploads/2025/02/cours-collectif-2.png
END:VEVENT
BEGIN:VEVENT
DTSTART;TZID=Europe/Paris:20250510T100000
DTEND;TZID=Europe/Paris:20250510T110000
DTSTAMP:20260426T043154
CREATED:20250223T103320Z
LAST-MODIFIED:20250223T140834Z
UID:2390-1746871200-1746874800@club-guitare-lannilis.fr
SUMMARY:Ados débutants 2
DESCRIPTION:A partir de 10 ans.7 élèves max par cours.\nCours donné par Marie-Claude
URL:https://club-guitare-lannilis.fr/event/ados-debutants-2-14/
LOCATION:Club Guitare\, Club Guitare Allée Verte\, Lannilis\, Finistère\, 29870\, France
CATEGORIES:Ados débutants,Ados débutants 2,Cours 2024-2025,Marie-Claude
ATTACH;FMTTYPE=image/png:https://club-guitare-lannilis.fr/wp-content/uploads/2025/02/cours-collectif-2.png
END:VEVENT
BEGIN:VEVENT
DTSTART;TZID=Europe/Paris:20250510T110000
DTEND;TZID=Europe/Paris:20250510T120000
DTSTAMP:20260426T043154
CREATED:20250223T103405Z
LAST-MODIFIED:20250223T141840Z
UID:2405-1746874800-1746878400@club-guitare-lannilis.fr
SUMMARY:Ados non débutants 2
DESCRIPTION:A partir de 10 ans.7 élèves max par cours.\nCours donné par Marie-Claude
URL:https://club-guitare-lannilis.fr/event/ados-non-debutants-2-9/
LOCATION:Club Guitare\, Club Guitare Allée Verte\, Lannilis\, Finistère\, 29870\, France
CATEGORIES:Ados non débutants,Ados non débutants 2,Cours 2024-2025,Marie-Claude
ATTACH;FMTTYPE=image/png:https://club-guitare-lannilis.fr/wp-content/uploads/2025/02/cours-collectif-2.png
END:VEVENT
BEGIN:VEVENT
DTSTART;TZID=Europe/Paris:20250512T190000
DTEND;TZID=Europe/Paris:20250512T200000
DTSTAMP:20260426T043154
CREATED:20250220T142750Z
LAST-MODIFIED:20250223T125722Z
UID:1749-1747076400-1747080000@club-guitare-lannilis.fr
SUMMARY:Loisirs 1
DESCRIPTION:Jouer et chanter pour le plaisir.7 élèves max par cours.\nCours donné par Thomas
URL:https://club-guitare-lannilis.fr/event/loisirs-1-24/
LOCATION:Club Guitare\, Club Guitare Allée Verte\, Lannilis\, Finistère\, 29870\, France
CATEGORIES:Cours 2024-2025,Loisirs,Loisirs 1,Thomas
ATTACH;FMTTYPE=image/png:https://club-guitare-lannilis.fr/wp-content/uploads/2025/02/cours-collectif-2.png
END:VEVENT
BEGIN:VEVENT
DTSTART;TZID=Europe/Paris:20250512T190000
DTEND;TZID=Europe/Paris:20250512T200000
DTSTAMP:20260426T043154
CREATED:20250223T131332Z
LAST-MODIFIED:20250223T131332Z
UID:2614-1747076400-1747080000@club-guitare-lannilis.fr
SUMMARY:Loisirs 2
DESCRIPTION:Jouer et chanter pour le plaisir.7 élèves max par cours.\nCours donné par Fabrice
URL:https://club-guitare-lannilis.fr/event/loisirs-2-42/
LOCATION:Club Guitare\, Club Guitare Allée Verte\, Lannilis\, Finistère\, 29870\, France
CATEGORIES:Cours 2024-2025,Fabrice,Loisirs,Loisirs 2
ATTACH;FMTTYPE=image/png:https://club-guitare-lannilis.fr/wp-content/uploads/2025/02/cours-collectif-2.png
END:VEVENT
BEGIN:VEVENT
DTSTART;TZID=Europe/Paris:20250512T200000
DTEND;TZID=Europe/Paris:20250512T210000
DTSTAMP:20260426T043154
CREATED:20250221T114409Z
LAST-MODIFIED:20250223T125850Z
UID:1858-1747080000-1747083600@club-guitare-lannilis.fr
SUMMARY:Adultes Débutants 1
DESCRIPTION:Pour les adultes n’ayant jamais pratiqué la guitare.7 élèves max par cours.\nCours donné par Thomas
URL:https://club-guitare-lannilis.fr/event/adultes-debutants-1-9/
LOCATION:Club Guitare\, Club Guitare Allée Verte\, Lannilis\, Finistère\, 29870\, France
CATEGORIES:Adultes débutants,Adultes débutants 1,Cours 2024-2025,Thomas
ATTACH;FMTTYPE=image/png:https://club-guitare-lannilis.fr/wp-content/uploads/2025/02/cours-collectif-2.png
END:VEVENT
BEGIN:VEVENT
DTSTART;TZID=Europe/Paris:20250513T173000
DTEND;TZID=Europe/Paris:20250513T183000
DTSTAMP:20260426T043154
CREATED:20250222T151450Z
LAST-MODIFIED:20250223T132538Z
UID:1947-1747157400-1747161000@club-guitare-lannilis.fr
SUMMARY:Ados débutants 1
DESCRIPTION:A partir de 10 ans.7 élèves max par cours.\nCours donné par Ronan
URL:https://club-guitare-lannilis.fr/event/ados-debutants-1-10/
LOCATION:Club Guitare\, Club Guitare Allée Verte\, Lannilis\, Finistère\, 29870\, France
CATEGORIES:Ados débutants,Ados débutants 1,Cours 2024-2025,Ronan
ATTACH;FMTTYPE=image/png:https://club-guitare-lannilis.fr/wp-content/uploads/2025/02/cours-collectif-2.png
END:VEVENT
BEGIN:VEVENT
DTSTART;TZID=Europe/Paris:20250513T183000
DTEND;TZID=Europe/Paris:20250513T193000
DTSTAMP:20260426T043154
CREATED:20250222T151535Z
LAST-MODIFIED:20250223T132942Z
UID:1962-1747161000-1747164600@club-guitare-lannilis.fr
SUMMARY:Intermédiaire 2
DESCRIPTION:Adultes – Découvrir de nouvelles techniques. Savoir passer le “FA”.7 élèves max par cours.\nCours donné par Ronan
URL:https://club-guitare-lannilis.fr/event/intermediaire-2-10/
LOCATION:Club Guitare\, Club Guitare Allée Verte\, Lannilis\, Finistère\, 29870\, France
CATEGORIES:Cours 2024-2025,Intermédiaire,Intermédiaire 2,Ronan
ATTACH;FMTTYPE=image/png:https://club-guitare-lannilis.fr/wp-content/uploads/2025/02/cours-collectif-2.png
END:VEVENT
BEGIN:VEVENT
DTSTART;TZID=Europe/Paris:20250513T183000
DTEND;TZID=Europe/Paris:20250513T193000
DTSTAMP:20260426T043154
CREATED:20250222T160124Z
LAST-MODIFIED:20250223T134048Z
UID:2013-1747161000-1747164600@club-guitare-lannilis.fr
SUMMARY:Intermédiaire 1
DESCRIPTION:Adultes – Découvrir de nouvelles techniques. Savoir passer le “FA”.7 élèves max par cours.\nCours donné par Xavier
URL:https://club-guitare-lannilis.fr/event/intermediaire-1-10/
LOCATION:Club Guitare\, Club Guitare Allée Verte\, Lannilis\, Finistère\, 29870\, France
CATEGORIES:Cours 2024-2025,Intermédiaire,Intermédiaire 1,Xavier
ATTACH;FMTTYPE=image/png:https://club-guitare-lannilis.fr/wp-content/uploads/2025/02/cours-collectif-2.png
END:VEVENT
BEGIN:VEVENT
DTSTART;TZID=Europe/Paris:20250513T193000
DTEND;TZID=Europe/Paris:20250513T203000
DTSTAMP:20260426T043154
CREATED:20250222T151620Z
LAST-MODIFIED:20250223T133250Z
UID:1977-1747164600-1747168200@club-guitare-lannilis.fr
SUMMARY:Intermédiaire 4
DESCRIPTION:Adultes – Découvrir de nouvelles techniques. Savoir passer le “FA”.7 élèves max par cours.\nCours donné par Ronan
URL:https://club-guitare-lannilis.fr/event/intermediaire-4-10/
LOCATION:Club Guitare\, Club Guitare Allée Verte\, Lannilis\, Finistère\, 29870\, France
CATEGORIES:Cours 2024-2025,Intermédiaire,Intermédiaire 4,Ronan
ATTACH;FMTTYPE=image/png:https://club-guitare-lannilis.fr/wp-content/uploads/2025/02/cours-collectif-2.png
END:VEVENT
BEGIN:VEVENT
DTSTART;TZID=Europe/Paris:20250513T193000
DTEND;TZID=Europe/Paris:20250513T203000
DTSTAMP:20260426T043154
CREATED:20250222T160542Z
LAST-MODIFIED:20250223T134526Z
UID:2032-1747164600-1747168200@club-guitare-lannilis.fr
SUMMARY:Intermédiaire 3
DESCRIPTION:Adultes – Découvrir de nouvelles techniques. Savoir passer le “FA”.7 élèves max par cours.\nCours donné par Xavier
URL:https://club-guitare-lannilis.fr/event/intermediaire-3-10/
LOCATION:Club Guitare\, Club Guitare Allée Verte\, Lannilis\, Finistère\, 29870\, France
CATEGORIES:Cours 2024-2025,Intermédiaire,Intermédiaire 3,Xavier
ATTACH;FMTTYPE=image/png:https://club-guitare-lannilis.fr/wp-content/uploads/2025/02/cours-collectif-2.png
END:VEVENT
BEGIN:VEVENT
DTSTART;TZID=Europe/Paris:20250513T203000
DTEND;TZID=Europe/Paris:20250513T213000
DTSTAMP:20260426T043154
CREATED:20250222T151706Z
LAST-MODIFIED:20250223T133614Z
UID:1992-1747168200-1747171800@club-guitare-lannilis.fr
SUMMARY:Perfectionnement 2
DESCRIPTION:Adultes – Approfondir de nouvelles techniques. Maîtrise des barrés et notion d’arpège requises.7 élèves max par cours.\nCours donné par Ronan
URL:https://club-guitare-lannilis.fr/event/perfectionnement-2-10/
LOCATION:Club Guitare\, Club Guitare Allée Verte\, Lannilis\, Finistère\, 29870\, France
CATEGORIES:Cours 2024-2025,Perfectionnement,Perfectionnement 2,Ronan
ATTACH;FMTTYPE=image/png:https://club-guitare-lannilis.fr/wp-content/uploads/2025/02/cours-collectif-2.png
END:VEVENT
BEGIN:VEVENT
DTSTART;TZID=Europe/Paris:20250513T203000
DTEND;TZID=Europe/Paris:20250513T213000
DTSTAMP:20260426T043154
CREATED:20250222T161145Z
LAST-MODIFIED:20250223T134627Z
UID:2050-1747168200-1747171800@club-guitare-lannilis.fr
SUMMARY:Perfectionnement 1
DESCRIPTION:Adultes – Approfondir de nouvelles techniques. Maîtrise des barrés et notion d’arpège requises.7 élèves max par cours.\nCours donné par Xavier
URL:https://club-guitare-lannilis.fr/event/perfectionnement-1-10/
LOCATION:Club Guitare\, Club Guitare Allée Verte\, Lannilis\, Finistère\, 29870\, France
CATEGORIES:Cours 2024-2025,Perfectionnement,Perfectionnement 1,Xavier
ATTACH;FMTTYPE=image/png:https://club-guitare-lannilis.fr/wp-content/uploads/2025/02/cours-collectif-2.png
END:VEVENT
BEGIN:VEVENT
DTSTART;TZID=Europe/Paris:20250514T180000
DTEND;TZID=Europe/Paris:20250514T190000
DTSTAMP:20260426T043154
CREATED:20250222T162058Z
LAST-MODIFIED:20250223T135149Z
UID:2072-1747245600-1747249200@club-guitare-lannilis.fr
SUMMARY:Adultes débutants 2
DESCRIPTION:Pour les adultes n’ayant jamais pratiqué la guitare.7 élèves max par cours.\nCours donné par Christine
URL:https://club-guitare-lannilis.fr/event/adultes-debutants-2-13/
LOCATION:Club Guitare\, Club Guitare Allée Verte\, Lannilis\, Finistère\, 29870\, France
CATEGORIES:Adultes débutants,Adultes débutants 2,Christine,Cours 2024-2025
ATTACH;FMTTYPE=image/png:https://club-guitare-lannilis.fr/wp-content/uploads/2025/02/cours-collectif-2.png
END:VEVENT
BEGIN:VEVENT
DTSTART;TZID=Europe/Paris:20250514T190000
DTEND;TZID=Europe/Paris:20250514T200000
DTSTAMP:20260426T043154
CREATED:20250222T162701Z
LAST-MODIFIED:20250223T135425Z
UID:2092-1747249200-1747252800@club-guitare-lannilis.fr
SUMMARY:Loisirs 3
DESCRIPTION:Jouer et chanter pour le plaisir.7 élèves max par cours.\nCours donné par Christine
URL:https://club-guitare-lannilis.fr/event/loisirs-3-11/
LOCATION:Club Guitare\, Club Guitare Allée Verte\, Lannilis\, Finistère\, 29870\, France
CATEGORIES:Christine,Cours 2024-2025,Loisirs,Loisirs 3
ATTACH;FMTTYPE=image/png:https://club-guitare-lannilis.fr/wp-content/uploads/2025/02/cours-collectif-2.png
END:VEVENT
BEGIN:VEVENT
DTSTART;TZID=Europe/Paris:20250515T180000
DTEND;TZID=Europe/Paris:20250515T190000
DTSTAMP:20260426T043154
CREATED:20250222T163339Z
LAST-MODIFIED:20250223T135849Z
UID:2118-1747332000-1747335600@club-guitare-lannilis.fr
SUMMARY:Ados non débutants 1
DESCRIPTION:A partir de 10 ans.7 élèves max par cours.\nCours donné par Ronan
URL:https://club-guitare-lannilis.fr/event/ados-non-debutants-1-8/
LOCATION:Club Guitare\, Club Guitare Allée Verte\, Lannilis\, Finistère\, 29870\, France
CATEGORIES:Ados non débutants,Ados non débutants 1,Cours 2024-2025,Ronan
ATTACH;FMTTYPE=image/png:https://club-guitare-lannilis.fr/wp-content/uploads/2025/02/cours-collectif-2.png
END:VEVENT
BEGIN:VEVENT
DTSTART;TZID=Europe/Paris:20250515T190000
DTEND;TZID=Europe/Paris:20250515T200000
DTSTAMP:20260426T043154
CREATED:20250222T165400Z
LAST-MODIFIED:20250223T135907Z
UID:2161-1747335600-1747339200@club-guitare-lannilis.fr
SUMMARY:Adultes débutants 2
DESCRIPTION:Pour les adultes n’ayant jamais pratiqué la guitare.7 élèves max par cours.\nCours donné par Ronan
URL:https://club-guitare-lannilis.fr/event/adultes-debutants-2-40/
LOCATION:Club Guitare\, Club Guitare Allée Verte\, Lannilis\, Finistère\, 29870\, France
CATEGORIES:Adultes débutants,Adultes débutants 3,Cours 2024-2025,Ronan
ATTACH;FMTTYPE=image/png:https://club-guitare-lannilis.fr/wp-content/uploads/2025/02/cours-collectif-2.png
END:VEVENT
END:VCALENDAR