BEGIN:VCALENDAR
VERSION:2.0
PRODID:-//Club Guitare Lannilis - ECPv6.15.17.1//NONSGML v1.0//EN
CALSCALE:GREGORIAN
METHOD:PUBLISH
X-WR-CALNAME:Club Guitare Lannilis
X-ORIGINAL-URL:https://club-guitare-lannilis.fr
X-WR-CALDESC:Évènements pour Club Guitare Lannilis
REFRESH-INTERVAL;VALUE=DURATION:PT1H
X-Robots-Tag:noindex
X-PUBLISHED-TTL:PT1H
BEGIN:VTIMEZONE
TZID:Europe/Paris
BEGIN:DAYLIGHT
TZOFFSETFROM:+0100
TZOFFSETTO:+0200
TZNAME:CEST
DTSTART:20240331T010000
END:DAYLIGHT
BEGIN:STANDARD
TZOFFSETFROM:+0200
TZOFFSETTO:+0100
TZNAME:CET
DTSTART:20241027T010000
END:STANDARD
BEGIN:DAYLIGHT
TZOFFSETFROM:+0100
TZOFFSETTO:+0200
TZNAME:CEST
DTSTART:20250330T010000
END:DAYLIGHT
BEGIN:STANDARD
TZOFFSETFROM:+0200
TZOFFSETTO:+0100
TZNAME:CET
DTSTART:20251026T010000
END:STANDARD
BEGIN:DAYLIGHT
TZOFFSETFROM:+0100
TZOFFSETTO:+0200
TZNAME:CEST
DTSTART:20260329T010000
END:DAYLIGHT
BEGIN:STANDARD
TZOFFSETFROM:+0200
TZOFFSETTO:+0100
TZNAME:CET
DTSTART:20261025T010000
END:STANDARD
END:VTIMEZONE
BEGIN:VEVENT
DTSTART;TZID=Europe/Paris:20250506T183000
DTEND;TZID=Europe/Paris:20250506T193000
DTSTAMP:20260425T131456
CREATED:20250222T160123Z
LAST-MODIFIED:20250223T134048Z
UID:2012-1746556200-1746559800@club-guitare-lannilis.fr
SUMMARY:Intermédiaire 1
DESCRIPTION:Adultes – Découvrir de nouvelles techniques. Savoir passer le “FA”.7 élèves max par cours.\nCours donné par Xavier
URL:https://club-guitare-lannilis.fr/event/intermediaire-1-9/
LOCATION:Club Guitare\, Club Guitare Allée Verte\, Lannilis\, Finistère\, 29870\, France
CATEGORIES:Cours 2024-2025,Intermédiaire,Intermédiaire 1,Xavier
ATTACH;FMTTYPE=image/png:https://club-guitare-lannilis.fr/wp-content/uploads/2025/02/cours-collectif-2.png
END:VEVENT
BEGIN:VEVENT
DTSTART;TZID=Europe/Paris:20250506T193000
DTEND;TZID=Europe/Paris:20250506T203000
DTSTAMP:20260425T131456
CREATED:20250222T160541Z
LAST-MODIFIED:20250223T134526Z
UID:2031-1746559800-1746563400@club-guitare-lannilis.fr
SUMMARY:Intermédiaire 3
DESCRIPTION:Adultes – Découvrir de nouvelles techniques. Savoir passer le “FA”.7 élèves max par cours.\nCours donné par Xavier
URL:https://club-guitare-lannilis.fr/event/intermediaire-3-9/
LOCATION:Club Guitare\, Club Guitare Allée Verte\, Lannilis\, Finistère\, 29870\, France
CATEGORIES:Cours 2024-2025,Intermédiaire,Intermédiaire 3,Xavier
ATTACH;FMTTYPE=image/png:https://club-guitare-lannilis.fr/wp-content/uploads/2025/02/cours-collectif-2.png
END:VEVENT
BEGIN:VEVENT
DTSTART;TZID=Europe/Paris:20250506T203000
DTEND;TZID=Europe/Paris:20250506T213000
DTSTAMP:20260425T131456
CREATED:20250222T161144Z
LAST-MODIFIED:20250223T134627Z
UID:2049-1746563400-1746567000@club-guitare-lannilis.fr
SUMMARY:Perfectionnement 1
DESCRIPTION:Adultes – Approfondir de nouvelles techniques. Maîtrise des barrés et notion d’arpège requises.7 élèves max par cours.\nCours donné par Xavier
URL:https://club-guitare-lannilis.fr/event/perfectionnement-1-9/
LOCATION:Club Guitare\, Club Guitare Allée Verte\, Lannilis\, Finistère\, 29870\, France
CATEGORIES:Cours 2024-2025,Perfectionnement,Perfectionnement 1,Xavier
ATTACH;FMTTYPE=image/png:https://club-guitare-lannilis.fr/wp-content/uploads/2025/02/cours-collectif-2.png
END:VEVENT
BEGIN:VEVENT
DTSTART;TZID=Europe/Paris:20250513T183000
DTEND;TZID=Europe/Paris:20250513T193000
DTSTAMP:20260425T131456
CREATED:20250222T160124Z
LAST-MODIFIED:20250223T134048Z
UID:2013-1747161000-1747164600@club-guitare-lannilis.fr
SUMMARY:Intermédiaire 1
DESCRIPTION:Adultes – Découvrir de nouvelles techniques. Savoir passer le “FA”.7 élèves max par cours.\nCours donné par Xavier
URL:https://club-guitare-lannilis.fr/event/intermediaire-1-10/
LOCATION:Club Guitare\, Club Guitare Allée Verte\, Lannilis\, Finistère\, 29870\, France
CATEGORIES:Cours 2024-2025,Intermédiaire,Intermédiaire 1,Xavier
ATTACH;FMTTYPE=image/png:https://club-guitare-lannilis.fr/wp-content/uploads/2025/02/cours-collectif-2.png
END:VEVENT
BEGIN:VEVENT
DTSTART;TZID=Europe/Paris:20250513T193000
DTEND;TZID=Europe/Paris:20250513T203000
DTSTAMP:20260425T131456
CREATED:20250222T160542Z
LAST-MODIFIED:20250223T134526Z
UID:2032-1747164600-1747168200@club-guitare-lannilis.fr
SUMMARY:Intermédiaire 3
DESCRIPTION:Adultes – Découvrir de nouvelles techniques. Savoir passer le “FA”.7 élèves max par cours.\nCours donné par Xavier
URL:https://club-guitare-lannilis.fr/event/intermediaire-3-10/
LOCATION:Club Guitare\, Club Guitare Allée Verte\, Lannilis\, Finistère\, 29870\, France
CATEGORIES:Cours 2024-2025,Intermédiaire,Intermédiaire 3,Xavier
ATTACH;FMTTYPE=image/png:https://club-guitare-lannilis.fr/wp-content/uploads/2025/02/cours-collectif-2.png
END:VEVENT
BEGIN:VEVENT
DTSTART;TZID=Europe/Paris:20250513T203000
DTEND;TZID=Europe/Paris:20250513T213000
DTSTAMP:20260425T131456
CREATED:20250222T161145Z
LAST-MODIFIED:20250223T134627Z
UID:2050-1747168200-1747171800@club-guitare-lannilis.fr
SUMMARY:Perfectionnement 1
DESCRIPTION:Adultes – Approfondir de nouvelles techniques. Maîtrise des barrés et notion d’arpège requises.7 élèves max par cours.\nCours donné par Xavier
URL:https://club-guitare-lannilis.fr/event/perfectionnement-1-10/
LOCATION:Club Guitare\, Club Guitare Allée Verte\, Lannilis\, Finistère\, 29870\, France
CATEGORIES:Cours 2024-2025,Perfectionnement,Perfectionnement 1,Xavier
ATTACH;FMTTYPE=image/png:https://club-guitare-lannilis.fr/wp-content/uploads/2025/02/cours-collectif-2.png
END:VEVENT
BEGIN:VEVENT
DTSTART;TZID=Europe/Paris:20250515T200000
DTEND;TZID=Europe/Paris:20250515T210000
DTSTAMP:20260425T131456
CREATED:20250223T104313Z
LAST-MODIFIED:20250223T140526Z
UID:2425-1747339200-1747342800@club-guitare-lannilis.fr
SUMMARY:Intermédiaire 5
DESCRIPTION:Adultes – Découvrir de nouvelles techniques. Savoir passer le “FA”.7 élèves max par cours.\nCours donné par Xavier
URL:https://club-guitare-lannilis.fr/event/intermediaire-5-12/
LOCATION:Club Guitare\, Club Guitare Allée Verte\, Lannilis\, Finistère\, 29870\, France
CATEGORIES:Cours 2024-2025,Intermédiaire,Intermédiaire 5,Xavier
ATTACH;FMTTYPE=image/png:https://club-guitare-lannilis.fr/wp-content/uploads/2025/02/cours-collectif-2.png
END:VEVENT
BEGIN:VEVENT
DTSTART;TZID=Europe/Paris:20250520T183000
DTEND;TZID=Europe/Paris:20250520T193000
DTSTAMP:20260425T131456
CREATED:20250222T160135Z
LAST-MODIFIED:20250223T134355Z
UID:2014-1747765800-1747769400@club-guitare-lannilis.fr
SUMMARY:Intermédiaire 1
DESCRIPTION:Adultes – Découvrir de nouvelles techniques. Savoir passer le “FA”.7 élèves max par cours.\nCours donné par Xavier
URL:https://club-guitare-lannilis.fr/event/intermediaire-1-11/
LOCATION:Club Guitare\, Club Guitare Allée Verte\, Lannilis\, Finistère\, 29870\, France
CATEGORIES:Cours 2024-2025,Intermédiaire,Intermédiaire 1,Xavier
ATTACH;FMTTYPE=image/png:https://club-guitare-lannilis.fr/wp-content/uploads/2025/02/cours-collectif-2.png
END:VEVENT
BEGIN:VEVENT
DTSTART;TZID=Europe/Paris:20250520T193000
DTEND;TZID=Europe/Paris:20250520T203000
DTSTAMP:20260425T131456
CREATED:20250222T160738Z
LAST-MODIFIED:20250223T134604Z
UID:2035-1747769400-1747773000@club-guitare-lannilis.fr
SUMMARY:Intermédiaire 3
DESCRIPTION:Adultes – Découvrir de nouvelles techniques. Savoir passer le “FA”.7 élèves max par cours.\nCours donné par Xavier
URL:https://club-guitare-lannilis.fr/event/intermediaire-3-11/
LOCATION:Club Guitare\, Club Guitare Allée Verte\, Lannilis\, Finistère\, 29870\, France
CATEGORIES:Cours 2024-2025,Intermédiaire,Intermédiaire 3,Xavier
ATTACH;FMTTYPE=image/png:https://club-guitare-lannilis.fr/wp-content/uploads/2025/02/cours-collectif-2.png
END:VEVENT
BEGIN:VEVENT
DTSTART;TZID=Europe/Paris:20250520T203000
DTEND;TZID=Europe/Paris:20250520T213000
DTSTAMP:20260425T131456
CREATED:20250222T161341Z
LAST-MODIFIED:20250223T134640Z
UID:2052-1747773000-1747776600@club-guitare-lannilis.fr
SUMMARY:Perfectionnement 1
DESCRIPTION:Adultes – Approfondir de nouvelles techniques. Maîtrise des barrés et notion d’arpège requises.7 élèves max par cours.\nCours donné par Xavier
URL:https://club-guitare-lannilis.fr/event/perfectionnement-1-11/
LOCATION:Club Guitare\, Club Guitare Allée Verte\, Lannilis\, Finistère\, 29870\, France
CATEGORIES:Cours 2024-2025,Perfectionnement,Perfectionnement 1,Xavier
ATTACH;FMTTYPE=image/png:https://club-guitare-lannilis.fr/wp-content/uploads/2025/02/cours-collectif-2.png
END:VEVENT
BEGIN:VEVENT
DTSTART;TZID=Europe/Paris:20250522T200000
DTEND;TZID=Europe/Paris:20250522T210000
DTSTAMP:20260425T131456
CREATED:20250223T104314Z
LAST-MODIFIED:20250223T140526Z
UID:2426-1747944000-1747947600@club-guitare-lannilis.fr
SUMMARY:Intermédiaire 5
DESCRIPTION:Adultes – Découvrir de nouvelles techniques. Savoir passer le “FA”.7 élèves max par cours.\nCours donné par Xavier
URL:https://club-guitare-lannilis.fr/event/intermediaire-5-13/
LOCATION:Club Guitare\, Club Guitare Allée Verte\, Lannilis\, Finistère\, 29870\, France
CATEGORIES:Cours 2024-2025,Intermédiaire,Intermédiaire 5,Xavier
ATTACH;FMTTYPE=image/png:https://club-guitare-lannilis.fr/wp-content/uploads/2025/02/cours-collectif-2.png
END:VEVENT
BEGIN:VEVENT
DTSTART;TZID=Europe/Paris:20250527T183000
DTEND;TZID=Europe/Paris:20250527T193000
DTSTAMP:20260425T131456
CREATED:20250222T160136Z
LAST-MODIFIED:20250223T134355Z
UID:2015-1748370600-1748374200@club-guitare-lannilis.fr
SUMMARY:Intermédiaire 1
DESCRIPTION:Adultes – Découvrir de nouvelles techniques. Savoir passer le “FA”.7 élèves max par cours.\nCours donné par Xavier
URL:https://club-guitare-lannilis.fr/event/intermediaire-1-12/
LOCATION:Club Guitare\, Club Guitare Allée Verte\, Lannilis\, Finistère\, 29870\, France
CATEGORIES:Cours 2024-2025,Intermédiaire,Intermédiaire 1,Xavier
ATTACH;FMTTYPE=image/png:https://club-guitare-lannilis.fr/wp-content/uploads/2025/02/cours-collectif-2.png
END:VEVENT
BEGIN:VEVENT
DTSTART;TZID=Europe/Paris:20250527T193000
DTEND;TZID=Europe/Paris:20250527T203000
DTSTAMP:20260425T131456
CREATED:20250222T160739Z
LAST-MODIFIED:20250223T134605Z
UID:2036-1748374200-1748377800@club-guitare-lannilis.fr
SUMMARY:Intermédiaire 3
DESCRIPTION:Adultes – Découvrir de nouvelles techniques. Savoir passer le “FA”.7 élèves max par cours.\nCours donné par Xavier
URL:https://club-guitare-lannilis.fr/event/intermediaire-3-12/
LOCATION:Club Guitare\, Club Guitare Allée Verte\, Lannilis\, Finistère\, 29870\, France
CATEGORIES:Cours 2024-2025,Intermédiaire,Intermédiaire 3,Xavier
ATTACH;FMTTYPE=image/png:https://club-guitare-lannilis.fr/wp-content/uploads/2025/02/cours-collectif-2.png
END:VEVENT
BEGIN:VEVENT
DTSTART;TZID=Europe/Paris:20250527T203000
DTEND;TZID=Europe/Paris:20250527T213000
DTSTAMP:20260425T131456
CREATED:20250222T161342Z
LAST-MODIFIED:20250223T134640Z
UID:2053-1748377800-1748381400@club-guitare-lannilis.fr
SUMMARY:Perfectionnement 1
DESCRIPTION:Adultes – Approfondir de nouvelles techniques. Maîtrise des barrés et notion d’arpège requises.7 élèves max par cours.\nCours donné par Xavier
URL:https://club-guitare-lannilis.fr/event/perfectionnement-1-12/
LOCATION:Club Guitare\, Club Guitare Allée Verte\, Lannilis\, Finistère\, 29870\, France
CATEGORIES:Cours 2024-2025,Perfectionnement,Perfectionnement 1,Xavier
ATTACH;FMTTYPE=image/png:https://club-guitare-lannilis.fr/wp-content/uploads/2025/02/cours-collectif-2.png
END:VEVENT
END:VCALENDAR